BEGIN:VCALENDAR
VERSION:2.0
PRODID:-//The Orchards - ECPv6.14.2//NONSGML v1.0//EN
CALSCALE:GREGORIAN
METHOD:PUBLISH
X-WR-CALNAME:The Orchards
X-ORIGINAL-URL:https://orchardsrestaurant.com
X-WR-CALDESC:Events for The Orchards
REFRESH-INTERVAL;VALUE=DURATION:PT1H
X-Robots-Tag:noindex
X-PUBLISHED-TTL:PT1H
BEGIN:VTIMEZONE
TZID:UTC
BEGIN:STANDARD
TZOFFSETFROM:+0000
TZOFFSETTO:+0000
TZNAME:UTC
DTSTART:20260101T000000
END:STANDARD
END:VTIMEZONE
BEGIN:VEVENT
DTSTART;TZID=UTC:20260314T150000
DTEND;TZID=UTC:20260317T230000
DTSTAMP:20260424T171018
CREATED:20260227T191924Z
LAST-MODIFIED:20260227T192011Z
UID:10000064-1773500400-1773788400@orchardsrestaurant.com
SUMMARY:St Patty's Weekend Celebration
DESCRIPTION:
URL:https://orchardsrestaurant.com/event/st-pattys-weekend-celebration/
CATEGORIES:Relax,The Orchards
END:VEVENT
END:VCALENDAR