BEGIN:VCALENDAR
VERSION:2.0
PRODID:-//The Orchards - ECPv6.14.2//NONSGML v1.0//EN
CALSCALE:GREGORIAN
METHOD:PUBLISH
X-WR-CALNAME:The Orchards
X-ORIGINAL-URL:https://orchardsrestaurant.com
X-WR-CALDESC:Events for The Orchards
REFRESH-INTERVAL;VALUE=DURATION:PT1H
X-Robots-Tag:noindex
X-PUBLISHED-TTL:PT1H
BEGIN:VTIMEZONE
TZID:UTC
BEGIN:STANDARD
TZOFFSETFROM:+0000
TZOFFSETTO:+0000
TZNAME:UTC
DTSTART:20260101T000000
END:STANDARD
END:VTIMEZONE
BEGIN:VEVENT
DTSTART;TZID=UTC:20260213T190000
DTEND;TZID=UTC:20260213T220000
DTSTAMP:20260424T183105
CREATED:20260130T183437Z
LAST-MODIFIED:20260130T183437Z
UID:10000054-1771009200-1771020000@orchardsrestaurant.com
SUMMARY:Mack Berry Band Performing
DESCRIPTION:The Mack Berry Band will be performing in our banquet room from 7pm to 10pm.  There will be a cover.
URL:https://orchardsrestaurant.com/event/mack-berry-band-performing/
CATEGORIES:Relax,The Orchards
END:VEVENT
BEGIN:VEVENT
DTSTART;TZID=UTC:20260213T190000
DTEND;TZID=UTC:20260213T220000
DTSTAMP:20260424T183105
CREATED:20260202T215049Z
LAST-MODIFIED:20260202T215049Z
UID:10000059-1771009200-1771020000@orchardsrestaurant.com
SUMMARY:Kevin & Friends
DESCRIPTION:
URL:https://orchardsrestaurant.com/event/kevin-friends/
CATEGORIES:Relax
END:VEVENT
END:VCALENDAR