BEGIN:VCALENDAR
VERSION:2.0
PRODID:-//The Orchards - ECPv6.14.2//NONSGML v1.0//EN
CALSCALE:GREGORIAN
METHOD:PUBLISH
X-ORIGINAL-URL:https://orchardsrestaurant.com
X-WR-CALDESC:Events for The Orchards
REFRESH-INTERVAL;VALUE=DURATION:PT1H
X-Robots-Tag:noindex
X-PUBLISHED-TTL:PT1H
BEGIN:VTIMEZONE
TZID:UTC
BEGIN:STANDARD
TZOFFSETFROM:+0000
TZOFFSETTO:+0000
TZNAME:UTC
DTSTART:20260101T000000
END:STANDARD
END:VTIMEZONE
BEGIN:VEVENT
DTSTART;TZID=UTC:20260207T190000
DTEND;TZID=UTC:20260207T220000
DTSTAMP:20260424T170952
CREATED:20260202T214308Z
LAST-MODIFIED:20260202T214308Z
UID:10000056-1770490800-1770501600@orchardsrestaurant.com
SUMMARY:Negley Bros.
DESCRIPTION:
URL:https://orchardsrestaurant.com/event/negley-bros/
CATEGORIES:Relax
END:VEVENT
BEGIN:VEVENT
DTSTART;TZID=UTC:20260208T190000
DTEND;TZID=UTC:20260208T220000
DTSTAMP:20260424T170952
CREATED:20260202T214411Z
LAST-MODIFIED:20260202T214446Z
UID:10000057-1770577200-1770588000@orchardsrestaurant.com
SUMMARY:Brookens & Co.
DESCRIPTION:
URL:https://orchardsrestaurant.com/event/brookens-co/
CATEGORIES:Relax
END:VEVENT
BEGIN:VEVENT
DTSTART;TZID=UTC:20260211T180000
DTEND;TZID=UTC:20260211T200000
DTSTAMP:20260424T170952
CREATED:20260202T214618Z
LAST-MODIFIED:20260202T214813Z
UID:10000058-1770832800-1770840000@orchardsrestaurant.com
SUMMARY:Music Bingo w/ Phantom Shadow...Free to Play
DESCRIPTION:
URL:https://orchardsrestaurant.com/event/music-bingo-w-phantom-shadow/
CATEGORIES:Relax
END:VEVENT
BEGIN:VEVENT
DTSTART;TZID=UTC:20260213T190000
DTEND;TZID=UTC:20260213T220000
DTSTAMP:20260424T170952
CREATED:20260130T183437Z
LAST-MODIFIED:20260130T183437Z
UID:10000054-1771009200-1771020000@orchardsrestaurant.com
SUMMARY:Mack Berry Band Performing
DESCRIPTION:The Mack Berry Band will be performing in our banquet room from 7pm to 10pm.  There will be a cover.
URL:https://orchardsrestaurant.com/event/mack-berry-band-performing/
CATEGORIES:Relax,The Orchards
END:VEVENT
BEGIN:VEVENT
DTSTART;TZID=UTC:20260213T190000
DTEND;TZID=UTC:20260213T220000
DTSTAMP:20260424T170952
CREATED:20260202T215049Z
LAST-MODIFIED:20260202T215049Z
UID:10000059-1771009200-1771020000@orchardsrestaurant.com
SUMMARY:Kevin & Friends
DESCRIPTION:
URL:https://orchardsrestaurant.com/event/kevin-friends/
CATEGORIES:Relax
END:VEVENT
BEGIN:VEVENT
DTSTART;TZID=UTC:20260214T150000
DTEND;TZID=UTC:20260214T220000
DTSTAMP:20260424T170952
CREATED:20260108T175336Z
LAST-MODIFIED:20260205T165123Z
UID:10000053-1771081200-1771106400@orchardsrestaurant.com
SUMMARY:Valentines Day!!
DESCRIPTION:v day 2026 Copy \nCome Celebrate at the Orchards Restaurant on Valentines Day with your loved one.  Please call us and make reservations.  Voted Best Restaurant in the Area for years. \n717 264 4711
URL:https://orchardsrestaurant.com/event/valentines-day/
CATEGORIES:Relax,The Orchards
END:VEVENT
BEGIN:VEVENT
DTSTART;TZID=UTC:20260221T170000
DTEND;TZID=UTC:20260221T220000
DTSTAMP:20260424T170952
CREATED:20260130T184649Z
LAST-MODIFIED:20260130T184802Z
UID:10000055-1771693200-1771711200@orchardsrestaurant.com
SUMMARY:Cabin Fever Music Festival Benefit For Cumberland Valley Animal Shelter
DESCRIPTION:Performers Include:  Jill Fulton Band\, Cameron Molloy Band\, The Negley Brothers and Club Medics \nDoors Open @ 4 PM  Music starts @ 5 PM \nTickets can be purchased  at the CVAS Thrift Store or the shelter on Letterkenny Road West. \nTickets are $10 in advance.  $12 at door if available.
URL:https://orchardsrestaurant.com/event/cabin-fever-music-festival-benefit-for-cumberland-valley-animal-shelter/
CATEGORIES:Relax,The Orchards
END:VEVENT
BEGIN:VEVENT
DTSTART;TZID=UTC:20260221T190000
DTEND;TZID=UTC:20260221T220000
DTSTAMP:20260424T170952
CREATED:20260205T161646Z
LAST-MODIFIED:20260205T161646Z
UID:10000060-1771700400-1771711200@orchardsrestaurant.com
SUMMARY:Ethan Larsh w/ The Cicadas
DESCRIPTION:
URL:https://orchardsrestaurant.com/event/ethan-larsh-w-the-cicadas/
CATEGORIES:Relax
END:VEVENT
END:VCALENDAR